BEGIN:VCALENDAR
VERSION:2.0
PRODID:-//ChamberMaster//Event Calendar 2.0//EN
METHOD:PUBLISH
X-PUBLISHED-TTL:P3D
REFRESH-INTERVAL:P3D
CALSCALE:GREGORIAN
BEGIN:VEVENT
DTSTART:20121013T020000Z
DTEND:20121013T040000Z
X-MICROSOFT-CDO-ALLDAYEVENT:FALSE
SUMMARY:Wine and Wellness Party
DESCRIPTION:Come Learn how to stay healthy and live a full abundant life through whole food based nutrition.
X-ALT-DESC;FMTTYPE=text/html:Come Learn how to stay healthy and live a full abundant life through whole food based nutrition.
LOCATION:Residence Inn Downtown at Captiol Park 1121 15th Street Sacramento\, CA 95814
UID:e.1155.613
SEQUENCE:3
DTSTAMP:20260422T160218Z
URL:https://business.natomaschamber.org/events/details/wine-and-wellness-party-10-12-2012-613
END:VEVENT

END:VCALENDAR
