BEGIN:VCALENDAR
VERSION:2.0
PRODID:-//ChamberMaster//Event Calendar 2.0//EN
METHOD:PUBLISH
X-PUBLISHED-TTL:P3D
REFRESH-INTERVAL:P3D
CALSCALE:GREGORIAN
BEGIN:VEVENT
DTSTART:20120922T180000Z
DTEND:20120922T190000Z
X-MICROSOFT-CDO-ALLDAYEVENT:FALSE
SUMMARY:Willie J's Burgers and More Grand Opening 9/22/12
DESCRIPTION:Local community business grand opening. Ribbon cutting will start off the event. Willie J's  Burgers and more will have lots of family friendly activities through out the day as well as great food\n\n\n\n\n\n\n\nWe provide a great location for the neighbors of Natomas to get fresh\, home-style cooked food at reasonable and fair prices. You can be confident that your meal is cooked to order. All of our hamburger patties are hand pressed daily from 100% certified Angus chuck. If burgers are not your thing\, we have an array of options to satisfy everyone's taste. Our menu range from breakfast items to rice bowls to seafood and many more between that. We hope to see you soon!
X-ALT-DESC;FMTTYPE=text/html:Local community business grand opening. Ribbon cutting will start off the event. Willie J&#39\;s&nbsp\;&nbsp\;Burgers and more will have&nbsp\;lots of family friendly activities through out the day as well as great food<br />\n<br />\n<br />\n<br />\nWe provide a great location for the neighbors of Natomas to get fresh\, home-style cooked food at reasonable and fair prices. You can be confident that your meal is cooked to order. All of our hamburger patties are hand pressed daily from 100% certified Angus chuck. If burgers are not your thing\, we have an array of options to satisfy everyone&rsquo\;s taste. Our menu range from breakfast items to rice bowls to seafood and many more between that. We hope to see you soon!<span _fck_bookmark="1" style="display: none">&nbsp\;</span>
LOCATION:2010 Club Center Drive Suite 100 Sacramento\, CA 95835
UID:e.1155.609
SEQUENCE:3
DTSTAMP:20260422T175320Z
URL:https://business.natomaschamber.org/events/details/willie-j-s-burgers-and-more-grand-opening-9-22-12-09-22-2012-609
END:VEVENT

END:VCALENDAR
