BEGIN:VCALENDAR
VERSION:2.0
PRODID:-//ChamberMaster//Event Calendar 2.0//EN
METHOD:PUBLISH
X-PUBLISHED-TTL:P3D
REFRESH-INTERVAL:P3D
CALSCALE:GREGORIAN
BEGIN:VEVENT
DTSTART;VALUE=DATE:20130713
DTEND;VALUE=DATE:20130714
TRANSP:TRANSPARENT
X-MICROSOFT-CDO-ALLDAYEVENT:TRUE
SUMMARY:Willie J's 1 year Anniversary Celebration
DESCRIPTION:Come celebrate our 1 year anniversary where we will have a raffle.  Earn tickets in the month of June.  For every $5 you spend you earn 1 ticket.  Prizes include: 47" Vizio Smart TV\, Massage from Sakura Massage\, Mani-Pedi from Fancy Nails\, 3 month membership to Fitness 19\, River Cat's Tickets\, and Gift cards.  Come in and sign up for our hot wing eating contest!!! Win 1 of 3 Gift cards to Willie J's Burgers and More.  Winners must be present to win raffle. See you there.
X-ALT-DESC;FMTTYPE=text/html:Come celebrate our 1 year anniversary where we will&nbsp\;have a raffle.&nbsp\; Earn tickets in the month of&nbsp\;June.&nbsp\; For every $5 you spend you earn 1 ticket.&nbsp\; Prizes include: 47&quot\; Vizio Smart TV\, Massage from Sakura Massage\, Mani-Pedi from Fancy Nails\, 3 month membership to Fitness 19\, River Cat&#39\;s Tickets\, and Gift cards.&nbsp\;&nbsp\;Come in and sign up for our&nbsp\;hot wing eating contest!!! Win 1 of 3 Gift cards to Willie J&#39\;s Burgers and More.&nbsp\; Winners must be present to win raffle. See you there.&nbsp\;
LOCATION:Willie J's Burgers and More 2010 Club Center Dr. STE 100 Sacramento\, CA 95835
UID:e.1155.839
SEQUENCE:3
DTSTAMP:20260422T012328Z
URL:https://business.natomaschamber.org/events/details/willie-j-s-1-year-anniversary-celebration-07-13-2013-839
END:VEVENT

END:VCALENDAR
