BEGIN:VCALENDAR
VERSION:2.0
PRODID:-//ChamberMaster//Event Calendar 2.0//EN
METHOD:PUBLISH
X-PUBLISHED-TTL:P3D
REFRESH-INTERVAL:P3D
CALSCALE:GREGORIAN
BEGIN:VEVENT
DTSTART:20120428T220000Z
DTEND:20120429T020000Z
X-MICROSOFT-CDO-ALLDAYEVENT:FALSE
SUMMARY:Westlake Charter School International Festival
DESCRIPTION:We expect 1000 attendees this year. It is a really fun event\, highlighting the different cultures of Westlake Charter School.  There is tons of food\, and kids activities and entertainment. We would love Chamber members to participate in our event with booths advertising their businesses.  We are not charging a booth fee. We just ask that the Members work with us to create an international theme for the booth\, and donate an item or service valuing at least $100 for our silent or live auction.
X-ALT-DESC;FMTTYPE=text/html:We expect 1000 attendees this year. It is a really fun event\, highlighting the different cultures of Westlake Charter School.&nbsp\; There is tons of food\, and kids activities and entertainment. We would love Chamber members to participate in our event with booths advertising their businesses.&nbsp\; We are not charging a booth fee. We just ask that the Members work with us to create an international theme for the booth\, and donate an item or service valuing at least $100 for our silent or live auction.<span _fck_bookmark="1" style="display: none">&nbsp\;</span>
LOCATION:4400 E. Commerce Way Sacramento\, Ca 95834
UID:e.1155.326
SEQUENCE:3
DTSTAMP:20260423T011644Z
URL:https://business.natomaschamber.org/events/details/westlake-charter-school-international-festival-04-28-2012-326
END:VEVENT

END:VCALENDAR
