BEGIN:VCALENDAR
VERSION:2.0
PRODID:-//ChamberMaster//Event Calendar 2.0//EN
METHOD:PUBLISH
X-PUBLISHED-TTL:P3D
REFRESH-INTERVAL:P3D
CALSCALE:GREGORIAN
BEGIN:VEVENT
DTSTART:20120611T163000Z
DTEND:20120612T000000Z
X-MICROSOFT-CDO-ALLDAYEVENT:FALSE
SUMMARY:Walmart Golf Classic Tournament-6/11/12
DESCRIPTION:Proceeds will go towards the Childrens Miracle Network Hospitals
X-ALT-DESC;FMTTYPE=text/html:Proceeds will go towards the&nbsp\;Childrens Miracle Network Hospitals&nbsp\;&nbsp\;&nbsp\;&nbsp\;&nbsp\;
LOCATION:Lincoln Hills Golf Club
UID:e.1155.581
SEQUENCE:3
DTSTAMP:20260422T222519Z
URL:https://business.natomaschamber.org/events/details/walmart-golf-classic-tournament-6-11-12-06-11-2012-581
END:VEVENT

END:VCALENDAR
