BEGIN:VCALENDAR
VERSION:2.0
PRODID:-//ChamberMaster//Event Calendar 2.0//EN
METHOD:PUBLISH
X-PUBLISHED-TTL:P3D
REFRESH-INTERVAL:P3D
CALSCALE:GREGORIAN
BEGIN:VEVENT
DTSTART:20120211T023000Z
DTEND:20120211T050000Z
X-MICROSOFT-CDO-ALLDAYEVENT:FALSE
SUMMARY:Valentine Mixer to benefit the Natomas Rose Garden-2/10/12
DESCRIPTION:There will be a DJ and Dance Music that includes tango\, swing\, as well as Latin dance performances.  There will also be appetizers.\n\n\n\nThis is a benefit for the Natomas Rose Garden.
X-ALT-DESC;FMTTYPE=text/html:There will be a DJ and Dance Music that includes tango\, swing\, as well as Latin dance performances.&nbsp\; There will also be appetizers.<br />\n<br />\nThis is a benefit for the Natomas Rose Garden.
LOCATION:Stadium Club Estates Clubhouse 4200 El Centro Road Sacramento CA 95834 *parking available on Brookfield Drive*
UID:e.1155.306
SEQUENCE:3
DTSTAMP:20260423T040924Z
URL:https://business.natomaschamber.org/events/details/valentine-mixer-to-benefit-the-natomas-rose-garden-2-10-12-02-10-2012-306
END:VEVENT

END:VCALENDAR
