BEGIN:VCALENDAR
VERSION:2.0
PRODID:-//ChamberMaster//Event Calendar 2.0//EN
METHOD:PUBLISH
X-PUBLISHED-TTL:P3D
REFRESH-INTERVAL:P3D
CALSCALE:GREGORIAN
BEGIN:VEVENT
DTSTART:20110812T010000Z
DTEND:20110812T030000Z
X-MICROSOFT-CDO-ALLDAYEVENT:FALSE
SUMMARY:"Think Big" Subcommittee Town Hall Meeting
DESCRIPTION:The new "Think BIG" Natomas subcommittee is charged with creating a plan for what would replace Power Balance Pavilion should a new arena be built downtown.\n\n\n\nThe 14-person subcommittee headed by Councilwoman Angelique Ashby and Assemblyman Dr. Richard Pan will hold a town hall August 11 to hear from those who live and work in Natomas on this topic.
X-ALT-DESC;FMTTYPE=text/html:<span style="font-size:12px\;"><span style="font-family: arial\;">The new &quot\;Think BIG&quot\; Natomas subcommittee is charged with creating a plan for what would replace Power Balance Pavilion should a new arena be built downtown.<br />\n<br />\nThe 14-person subcommittee headed by Councilwoman Angelique Ashby and Assemblyman Dr. Richard Pan will hold a town hall August 11 to hear from those who live and work in Natomas on this topic.</span></span>
LOCATION:Natomas Charter Black Box Theatre 4600 Blackrock Road
UID:e.1155.268
SEQUENCE:3
DTSTAMP:20260423T150433Z
URL:https://business.natomaschamber.org/events/details/think-big-subcommittee-town-hall-meeting-08-11-2011-268
END:VEVENT

END:VCALENDAR
