BEGIN:VCALENDAR
VERSION:2.0
PRODID:-//ChamberMaster//Event Calendar 2.0//EN
METHOD:PUBLISH
X-PUBLISHED-TTL:P3D
REFRESH-INTERVAL:P3D
CALSCALE:GREGORIAN
BEGIN:VEVENT
DTSTART:20140331T010000Z
DTEND:20140331T030000Z
X-MICROSOFT-CDO-ALLDAYEVENT:FALSE
SUMMARY:The N Factor 2014
DESCRIPTION:The N Factor Awards recognize people who live or work in Natomas and give generously of their time\, energy and resources to make it a better place for us all. \n\n\n\nThis event is made possible by the Office of Mayor Pro Tem\, Natomas Chamber of Commerce\, Walmart\, Assemblymember Dr. Richard Pan and N Magazine.
X-ALT-DESC;FMTTYPE=text/html:<span style="color: rgb(85\, 85\, 85)\; font-family: Verdana\, Arial\, Helvetica\, sans-serif\; line-height: normal\; background-color: rgb(244\, 244\, 244)\;">The N Factor Awards recognize people who live or work in Natomas and give generously of their time\, energy and resources to make it a better place for us all.&nbsp\;</span><br style="color: rgb(85\, 85\, 85)\; font-family: Verdana\, Arial\, Helvetica\, sans-serif\; line-height: normal\; background-color: rgb(244\, 244\, 244)\;" />\n<br style="color: rgb(85\, 85\, 85)\; font-family: Verdana\, Arial\, Helvetica\, sans-serif\; line-height: normal\; background-color: rgb(244\, 244\, 244)\;" />\n<em style="color: rgb(85\, 85\, 85)\; font-family: Verdana\, Arial\, Helvetica\, sans-serif\; line-height: normal\; background-color: rgb(244\, 244\, 244)\;">This event is made possible by the Office of Mayor Pro Tem\, Natomas Chamber of Commerce\, Walmart\, Assemblymember Dr. Richard Pan and N Magazine.</em><br />\n<br />\n&nbsp\;
LOCATION:Benvenuti Performing Arts Center 4600 Blackrock Drive Sacramento\, CA
UID:e.1155.1155
SEQUENCE:3
DTSTAMP:20260421T131920Z
URL:https://business.natomaschamber.org/events/details/the-n-factor-2014-03-30-2014-1155
END:VEVENT

END:VCALENDAR
