BEGIN:VCALENDAR
VERSION:2.0
PRODID:-//ChamberMaster//Event Calendar 2.0//EN
METHOD:PUBLISH
X-PUBLISHED-TTL:P3D
REFRESH-INTERVAL:P3D
CALSCALE:GREGORIAN
BEGIN:VEVENT
DTSTART:20120415T013000Z
DTEND:20120415T030000Z
X-MICROSOFT-CDO-ALLDAYEVENT:FALSE
SUMMARY:The N Factor
DESCRIPTION:On April 14th\, 2012\, from 6:30 to 8:00 PM at the Benvenuti Arts Center (located at 4600 Blackrock Drive) Natomas will come together to acknowledge and recognize the efforts of its residents and business people who make a difference by getting involved\, caring about their community and giving it their all\, by holding a community awards ceremony called "The N Factor".\n\n	 \n\n	The "N Factor" is a FREE community appreciation and recognition ceremony organized through Vice Mayor Ashby's Office\, the Natomas Chamber of Commerce and community leaders.\n\n	 \n\n	This event is open to all community members\, nominees\, friends and family\, so please join us for this special opportunity to highlight the efforts of those who selflessly give to their community.\n\n	 \n\n	If you'd like to learn more about the N Factor\, please visit: www.angeliqueashby.com/nfactor\n\n	To register for this free event please go to http://nfactor.eventbrite.com/
X-ALT-DESC;FMTTYPE=text/html:<p>\n	<big>On April 14th\, 2012\, from 6:30 to 8:00 PM at the Benvenuti Arts Center (located at 4600 Blackrock Drive) Natomas will come together to acknowledge and recognize the efforts of its residents and business people who make a difference by getting involved\, caring about their community and giving it their all\, by holding a community awards ceremony called &ldquo\;The N Factor&rdquo\;.<br />\n	&nbsp\;<br />\n	The &ldquo\;N Factor&rdquo\; is a FREE community appreciation and recognition ceremony organized through Vice Mayor Ashby&rsquo\;s Office\, the Natomas Chamber of Commerce and community leaders.<br />\n	&nbsp\;<br />\n	This event is open to all community members\, nominees\, friends and family\, so please join us for this special opportunity to highlight the efforts of those who selflessly give to their community.<br />\n	&nbsp\;<br />\n	If you&rsquo\;d like to learn more about the N Factor\, please visit: <a href="http://www.angeliqueashby.com/nfactor">www.angeliqueashby.com/nfactor</a></big></p>\n<p>\n	<big>To register for this free event please go to <a href="http://nfactor.eventbrite.com/">http://nfactor.eventbrite.com/</a></big><span _fck_bookmark="1" style="display: none">&nbsp\;</span></p>\n
LOCATION:Benvenuti Performing Arts Center 4600 Blackrock Drive Sacramento\, CA 95835
UID:e.1155.314
SEQUENCE:3
DTSTAMP:20260423T011132Z
URL:https://business.natomaschamber.org/events/details/the-n-factor-04-14-2012-314
END:VEVENT

END:VCALENDAR
