BEGIN:VCALENDAR
VERSION:2.0
PRODID:-//ChamberMaster//Event Calendar 2.0//EN
METHOD:PUBLISH
X-PUBLISHED-TTL:P3D
REFRESH-INTERVAL:P3D
CALSCALE:GREGORIAN
BEGIN:VEVENT
DTSTART:20120517T183000Z
DTEND:20120517T200000Z
X-MICROSOFT-CDO-ALLDAYEVENT:FALSE
SUMMARY:State Fair Luncheon with Norb Bartosik-05/17/12
DESCRIPTION:The California State Fair is coming July 12-29th - and this is our Region's biggest single event!\n\n	Join the North Sacrmamento\, Natomas\, Sacramento Metro Chamber's of Commerce and the Del Paso Boulevard Parnership as they host a special "Big Fun Presentation" by Cal Expo General Manager Norb Bartosik and learn what we can expect from this year's Fair. This program is presented by SMUD\, the power to do more. Join other business leaders in hearing about this years Fair and how it impacts our region\, promotes agricultural innovation and drives our local commerce.\n\n	Register by May 13th for the Early Bird rate. Buffet Deli Lunch\, beverage\, dessert & Raffle Included.
X-ALT-DESC;FMTTYPE=text/html:<p>\n	The California <strong>State Fair</strong> is coming July 12-29th - and this is our Region&#39\;s biggest single event!</p>\n<p>\n	Join the North Sacrmamento\, Natomas\, Sacramento Metro Chamber&#39\;s of Commerce and the Del Paso Boulevard Parnership as they host a special &quot\;Big Fun Presentation&quot\; by Cal Expo General Manager Norb Bartosik and learn what we can expect from this year&#39\;s Fair. This program is presented by <strong>SMUD</strong>\, <em>the power to do more.</em> Join other business leaders in hearing about this years Fair and how it impacts our region\, promotes agricultural innovation and drives our local commerce.</p>\n<p>\n	Register by May 13th for the Early Bird rate. Buffet Deli Lunch\, beverage\, dessert &amp\; Raffle Included.</p>\n
LOCATION:Clubhouse\, Grandstand\, 2nd Floor 1600 Exposition Boulevard (enter Gate D\, Exposition at Challenge Way) Sacramento\, CA 95815
UID:e.1155.579
SEQUENCE:3
DTSTAMP:20260422T234520Z
URL:https://business.natomaschamber.org/events/details/state-fair-luncheon-with-norb-bartosik-05-17-12-05-17-2012-579
END:VEVENT

END:VCALENDAR
