BEGIN:VCALENDAR
VERSION:2.0
PRODID:-//ChamberMaster//Event Calendar 2.0//EN
METHOD:PUBLISH
X-PUBLISHED-TTL:P3D
REFRESH-INTERVAL:P3D
CALSCALE:GREGORIAN
BEGIN:VEVENT
DTSTART:20111210T200000Z
DTEND:20111210T233000Z
X-MICROSOFT-CDO-ALLDAYEVENT:FALSE
SUMMARY:Star Academy Winter Festival
DESCRIPTION:The parents of the Natomas Charter School - Star Academy academic program are proud to announce the Second Annual Winter Festival Saturday\, December 10th\, 2011.\n\n\n\nOn the day of the event\, we will have silent auctions\, carnival games\, arts and crafts\, our very own\n\nStar Academy Art Show\, raffles\, a photo booth\, and a variety of carnival foods and treats.\n\n\n\nNatomas Charter School Star Academy is an educational elementary program currently for grades Jr. Kinder through 1st that provides our children a core curriculum\, the arts (dance\, drama\, music\, and fine arts) technology\, and languages (Spanish and sign language) into the curriculum.\n\n\n\nAdmission is free!!!\n\n\n\nCome and enjoy the food and the festival fun!!\n\n\n\nProceeds go to Natomas Charter School- Star Academy to fund special programs to enhance learning and field trips.
X-ALT-DESC;FMTTYPE=text/html:The parents of the Natomas Charter School - Star Academy academic program are proud to announce the Second Annual Winter Festival Saturday\, December 10th\, 2011.<br />\n<br />\nOn the day of the event\, we will have silent auctions\, carnival games\, arts and crafts\, our very own<br />\nStar Academy Art Show\, raffles\, a photo booth\, and a variety of carnival foods and treats.<br />\n<br />\nNatomas Charter School Star Academy is an educational elementary program currently for grades Jr. Kinder through 1st that provides our children a core curriculum\, the arts (dance\, drama\, music\, and fine arts) technology\, and languages (Spanish and sign language) into the curriculum.<br />\n<br />\nAdmission is free!!!<br />\n<br />\nCome and enjoy the food and the festival fun!!<br />\n<br />\nProceeds go to Natomas Charter School- Star Academy to fund special programs to enhance learning and field trips.
LOCATION:4400 E.Commerce Way\, Sacramento\, California 95835
UID:e.1155.284
SEQUENCE:3
DTSTAMP:20260423T093218Z
URL:https://business.natomaschamber.org/events/details/star-academy-winter-festival-12-10-2011-284
END:VEVENT

END:VCALENDAR
