BEGIN:VCALENDAR
VERSION:2.0
PRODID:-//ChamberMaster//Event Calendar 2.0//EN
METHOD:PUBLISH
X-PUBLISHED-TTL:P3D
REFRESH-INTERVAL:P3D
CALSCALE:GREGORIAN
BEGIN:VEVENT
DTSTART:20120310T170000Z
DTEND:20120311T003000Z
X-MICROSOFT-CDO-ALLDAYEVENT:FALSE
SUMMARY:South Natomas Library Book Sale
DESCRIPTION:The Friends of the Sacramento Library - South Natomas will hosting a used book sale on Saturday\, March 10 from 9 a.m. to 4:30 p.m. Friends of the Library members will receive early access at 8:00 AM and will receive an additional discount on all books. \n\n\n\n There will be a large assortment of books in all subject areas\, as well as CDs\, DVDs\, VHS tapes and magazines. All proceeds benefiting library programs. The sale will continue in the community room through Saturday\, March 17.\n\n\n\n\n	All books are reasonably priced starting at $0.25 and every child will receive one free book!\n\n	\n		\n			\n				\n					\n						\n							\n								\n									\n										\n											\n												\n													\n														\n															\n																\n\n																We are also accepting donations of used books\, CDs\, DVDs\, VHS tapes and magazines and these can be dropped off at the South Natomas Library during regular library hours.\n															\n																For more information\, contact Friends of the Library - South Natomas at southnatomasfol@yahoo.com.
X-ALT-DESC;FMTTYPE=text/html:<br />\n<font size="4">The Friends of the Sacramento Library - South Natomas will hosting a used book sale </font><span style="font-size: 18px"><span class="yiv186462862yshortcuts" id="yiv186462862lw_1284604833_0">on Saturday\, March 10 from </span></span><span style="font-size: 18px"><span class="yiv186462862yshortcuts" id="yiv186462862lw_1284604833_0">9 a.m. to 4:30 p.m. </span></span><span id="yiv186462862yui_3_2_0_16_1330535504703234" style="font-size: 18px"><span id="yiv186462862yui_3_2_0_16_1330535504703233">Friends of the Library members will receive early access at 8:00 AM and will receive an additional discount on all books.&nbsp\;</span></span><br />\n<br />\n<span style="font-size: 18px"><span> </span></span><span id="yiv186462862yui_3_2_0_16_1330535504703206" style="font-size: 18px"><span class="yiv186462862yshortcuts" id="yiv186462862lw_1284604833_0">There will be</span> a large assortment of books in all subject areas\, as well as CDs\, DVDs\, VHS tapes and magazines. All proceeds benefiting library</span><span id="yiv186462862yui_3_2_0_16_1330535504703173" style="font-size: 18px"><span id="yiv186462862yui_3_2_0_16_1330535504703172"> programs. </span></span><span style="font-size: 18px"><span>The sale will continue in the community room through Saturday\, March 17.</span></span><br />\n<br />\n<div id="yiv186462862yui_3_2_0_16_1330535504703127">\n	<span id="yiv186462862yui_3_2_0_16_1330535504703173" style="font-size: 18px"><span id="yiv186462862yui_3_2_0_16_1330535504703172"><span style="font-weight: bold">All books are reasonably priced starting at $0.25 and every child will receive one free book!</span></span></span></div>\n<div id="yiv186462862yui_3_2_0_16_1330535504703139">\n	<div id="yiv186462862yui_3_2_0_16_1330535504703138">\n		<div id="yiv186462862">\n			<div id="yiv186462862yui_3_2_0_16_1330535504703137" style="background-color: white\; color: black">\n				<div id="yiv186462862yui_3_2_0_16_1330535504703136">\n					<div id="yiv186462862yui_3_2_0_16_1330535504703135">\n						<div id="yiv186462862">\n							<div id="yiv186462862yui_3_2_0_16_1330535504703134" style="background-color: white\; color: black">\n								<div id="yiv186462862yui_3_2_0_16_1330535504703133">\n									<div id="yiv186462862yui_3_2_0_16_1330535504703132">\n										<div id="yiv186462862">\n											<div id="yiv186462862yui_3_2_0_16_1330535504703131">\n												<div id="yiv186462862yui_3_2_0_16_1330535504703130">\n													<div id="yiv186462862yui_3_2_0_16_1330535504703129">\n														<div id="yiv186462862yui_3_2_0_16_1330535504703128">\n															<div id="yiv186462862yui_3_2_0_16_1330535504703228">\n																<br />\n																<span id="yiv186462862yui_3_2_0_16_1330535504703234" style="font-size: 18px"><span id="yiv186462862yui_3_2_0_16_1330535504703233">We are also accepting donations of used books\, CDs\, DVDs\, VHS tapes and magazines and these can be dropped off at the South Natomas Library during regular library hours.</span></span></div>\n															<div>\n																<span style="font-size: large"><span>For more information\, contact Friends of the Library - South Natomas at <a href="mhtml:{2C33D83B-6639-457A-8323-6472DB64EC0D}mid://00000065/!x-usc:mailto:southnatomasfol@yahoo.com" rel="nofollow" target="_blank" ymailto="mailto:southnatomasfol@yahoo.com">southnatomasfol@yahoo.com</a>.<span _fck_bookmark="1" style="display: none">&nbsp\;</span></span></span></div>\n														</div>\n													</div>\n												</div>\n											</div>\n										</div>\n									</div>\n								</div>\n							</div>\n						</div>\n					</div>\n				</div>\n			</div>\n		</div>\n	</div>\n</div>\n
LOCATION:The sale will be held at the South Natomas Library located at 2901 Truxel Road\, Sacramento
UID:e.1155.315
SEQUENCE:3
DTSTAMP:20260423T024613Z
URL:https://business.natomaschamber.org/events/details/south-natomas-library-book-sale-03-10-2012-315
END:VEVENT

END:VCALENDAR
