BEGIN:VCALENDAR
VERSION:2.0
PRODID:-//ChamberMaster//Event Calendar 2.0//EN
METHOD:PUBLISH
X-PUBLISHED-TTL:P3D
REFRESH-INTERVAL:P3D
CALSCALE:GREGORIAN
BEGIN:VEVENT
DTSTART:20130309T170000Z
DTEND:20130309T170000Z
X-MICROSOFT-CDO-ALLDAYEVENT:FALSE
SUMMARY:South Natomas Library Book Sale
DESCRIPTION:The Friends of the Sacramento Library - South Natomas will hosting a used book sale on Saturday\, March 9 from 9 a.m. to 4:30 p.m. Friends of the Library members will receive early access at 8:00 AM and will receive an additional discount on all books. \n\n	\n\n	The sale will be held at the South Natomas Library located at 2901 Truxel Road\, Sacramento. There will be a large assortment of books in all subject areas\, as well as CDs\, DVDs\, VHS tapes and magazines.  All proceeds benefiting library programs. The sale will continue in the community room through Saturday\, March 18.\n\n\n\n	All books are reasonably priced starting at $0.25 and every child will receive one free book!\n\n	\n		\n			\n				\n					\n						\n							\n								\n									\n										\n											\n												\n													\n														\n															\n																\n\n																We are also accepting donations of used books\, CDs\, DVDs\, VHS tapes and magazines and these can be dropped off at the South Natomas Library during regular library hours.\n															 \n															\n																For more information\, contact Friends of the Library - South Natomas at southnatomasfol@yahoo.com.
X-ALT-DESC;FMTTYPE=text/html:<div id="yiv1988762057yui_3_2_0_16_1330535504703217">\n	<span id="yiv1988762057yui_3_2_0_16_1330535504703216" style="font-size: 18px\;">The Friends of the Sacramento Library - South Natomas will hosting a used book sale&nbsp\;</span><span style="font-size: 18px\;"><span class="yiv1988762057yshortcuts" id="yiv1988762057lw_1284604833_0"><span class="yshortcuts" id="lw_1362247017_3">on Saturday\, March 9&nbsp\;</span>from&nbsp\;</span></span><span style="font-size: 18px\;"><span class="yiv1988762057yshortcuts" id="yiv1988762057lw_1284604833_0">9 a.m. to 4:30 p.m.&nbsp\;</span></span><span id="yiv1988762057yui_3_2_0_16_1330535504703234" style="font-size: 18px\;"><span id="yiv1988762057yui_3_2_0_16_1330535504703233">Friends of the Library members will receive early access at 8:00 AM and will receive an additional discount on all books.&nbsp\;</span></span><br />\n	<br />\n	<span style="font-size: 18px\;"><span>The sale will be held at the South Natomas Library located at 2901 Truxel Road\, Sacramento.&nbsp\;</span></span><span id="yiv1988762057yui_3_2_0_16_1330535504703206" style="font-size: 18px\;"><span class="yiv1988762057yshortcuts" id="yiv1988762057lw_1284604833_0">There will be</span>&nbsp\;a large assortment of books in all subject areas\, as well as CDs\, DVDs\, VHS tapes and magazines.&nbsp\; All proceeds benefiting library</span><span id="yiv1988762057yui_3_2_0_16_1330535504703173" style="font-size: 18px\;"><span id="yiv1988762057yui_3_2_0_16_1330535504703172">&nbsp\;programs.&nbsp\;</span></span><span style="font-size: 18px\;"><span>The sale will continue in the community room through&nbsp\;<span class="yshortcuts" id="lw_1362247017_4">Saturday\, March 18</span>.</span></span></div>\n<br />\n<div id="yiv1988762057yui_3_2_0_16_1330535504703127">\n	<span id="yiv1988762057yui_3_2_0_16_1330535504703173" style="font-size: 18px\;"><span id="yiv1988762057yui_3_2_0_16_1330535504703172"><span style="font-weight: bold\;">All books are reasonably priced starting at $0.25 and every child will receive one free book!</span></span></span></div>\n<div id="yiv1988762057yui_3_2_0_16_1330535504703139">\n	<div id="yiv1988762057yui_3_2_0_16_1330535504703138">\n		<div id="yiv1988762057">\n			<div id="yiv1988762057yui_3_2_0_16_1330535504703137" style="background-color: white\;">\n				<div id="yiv1988762057yui_3_2_0_16_1330535504703136">\n					<div id="yiv1988762057yui_3_2_0_16_1330535504703135">\n						<div id="yiv1988762057">\n							<div id="yiv1988762057yui_3_2_0_16_1330535504703134" style="background-color: white\;">\n								<div id="yiv1988762057yui_3_2_0_16_1330535504703133">\n									<div id="yiv1988762057yui_3_2_0_16_1330535504703132">\n										<div id="yiv1988762057">\n											<div id="yiv1988762057yui_3_2_0_16_1330535504703131">\n												<div id="yiv1988762057yui_3_2_0_16_1330535504703130">\n													<div id="yiv1988762057yui_3_2_0_16_1330535504703129">\n														<div id="yiv1988762057yui_3_2_0_16_1330535504703128">\n															<div id="yiv1988762057yui_3_2_0_16_1330535504703228">\n																<br />\n																<span id="yiv1988762057yui_3_2_0_16_1330535504703234" style="font-size: 18px\;"><span id="yiv1988762057yui_3_2_0_16_1330535504703233">We are also accepting donations of used books\, CDs\, DVDs\, VHS tapes and magazines and these can be dropped off at the South Natomas Library during regular library hours.</span></span></div>\n															<span style="font-size: large\;">&nbsp\;</span>\n															<div>\n																<span style="font-size: 18px\;">For more information\, contact Friends of the Library - South Natomas at&nbsp\;<a href="mailto:southnatomasfol@yahoo.com" rel="nofollow" style="outline: 0px\; color: rgb(40\, 98\, 197)\;" tabindex="-1" target="_parent"><span class="yshortcuts" id="lw_1362247017_5">southnatomasfol@yahoo.com</span></a>.</span></div>\n														</div>\n													</div>\n												</div>\n											</div>\n										</div>\n									</div>\n								</div>\n							</div>\n						</div>\n					</div>\n				</div>\n			</div>\n		</div>\n	</div>\n</div>\n
LOCATION:
UID:e.1155.792
SEQUENCE:3
DTSTAMP:20260422T074855Z
URL:https://business.natomaschamber.org/events/details/south-natomas-library-book-sale-03-09-2013-792
END:VEVENT

END:VCALENDAR
