BEGIN:VCALENDAR
VERSION:2.0
PRODID:-//ChamberMaster//Event Calendar 2.0//EN
METHOD:PUBLISH
X-PUBLISHED-TTL:P3D
REFRESH-INTERVAL:P3D
CALSCALE:GREGORIAN
BEGIN:VEVENT
DTSTART:20110817T203000Z
DTEND:20110817T220000Z
X-MICROSOFT-CDO-ALLDAYEVENT:FALSE
SUMMARY:SBA Financing Options Workshop
DESCRIPTION:Learn how small businesses get money. Bank loans\, are they impossible? Doing your homework before applying for a loan and who might be able to help. Why banks might not be able to lend to your businesses. How SBA might help. SBA loan guarantee program overview. Tips for dealing with lenders.\n\n\n\n* Various SBA Loan Programs\n\n* Fundamentals of Borrowing\n\n* Credit\, financing options\, owners's injection & Collateral requirements\n\n* Loan restrictions & Limitations\n\n* Loan Application Process
X-ALT-DESC;FMTTYPE=text/html:Learn how small businesses get money. Bank loans\, are they impossible? Doing your homework before applying for a loan and who might be able to help. Why banks might not be able to lend to your businesses. How SBA might help. SBA loan guarantee program overview. Tips for dealing with lenders.<br />\n<br />\n* Various SBA Loan Programs<br />\n* Fundamentals of Borrowing<br />\n* Credit\, financing options\, owners&#39\;s injection &amp\; Collateral requirements<br />\n* Loan restrictions &amp\; Limitations<br />\n* Loan Application Process
LOCATION:Sacramento Small Business Development Center 1410 Ethan Way\, Sacramento\, CA\, 95825
UID:e.1155.269
SEQUENCE:3
DTSTAMP:20260423T144823Z
URL:https://business.natomaschamber.org/events/details/sba-financing-options-workshop-08-17-2011-269
END:VEVENT

END:VCALENDAR
