BEGIN:VCALENDAR
VERSION:2.0
PRODID:-//ChamberMaster//Event Calendar 2.0//EN
METHOD:PUBLISH
X-PUBLISHED-TTL:P3D
REFRESH-INTERVAL:P3D
CALSCALE:GREGORIAN
BEGIN:VEVENT
DTSTART:20121025T160000Z
DTEND:20121025T190000Z
X-MICROSOFT-CDO-ALLDAYEVENT:FALSE
SUMMARY:Sacramento's 1st Regional HOMELESS EMPLOYMENT SUMMIT
DESCRIPTION:Your business or agency is invited to join this regional effort to develop solutions to bringing individuals willing to work back into the local workforce
X-ALT-DESC;FMTTYPE=text/html:<p>\n	Your business or agency is invited to join this regional effort to develop solutions to bringing individuals willing to work back into the local workforce</p>\n
LOCATION:Wood Lake Hotel 500 Leisure Lane\, Edgewater F Ballroom Sacramento\, CA
UID:e.1155.616
SEQUENCE:3
DTSTAMP:20260422T160555Z
URL:https://business.natomaschamber.org/events/details/sacramento-s-1st-regional-homeless-employment-summit-10-25-2012-616
END:VEVENT

END:VCALENDAR
