BEGIN:VCALENDAR
VERSION:2.0
PRODID:-//ChamberMaster//Event Calendar 2.0//EN
METHOD:PUBLISH
X-PUBLISHED-TTL:P3D
REFRESH-INTERVAL:P3D
CALSCALE:GREGORIAN
BEGIN:VEVENT
DTSTART:20121208T030000Z
DTEND:20121208T060000Z
X-MICROSOFT-CDO-ALLDAYEVENT:FALSE
SUMMARY:Sacramento Kings Partner Appreciation Night Vs. Orlando Magic
DESCRIPTION:Complimentary Tickets!\n														\n														\n															\n																Please join us for the Sacramento Kings Partner Appreciation Night vs. the Orlando Magic\, Friday\, December 7th @ 7 pm. \n\n																 \n\n																We're expecting to pack the house for this game in an effort to support River City Food Bank.  Bring your donations of non-perishable food to Section 123 to support the cause and cheer our Kings on to a big victory!  Happy holidays.\n\n																 \n\n																You will simply have to pay a $10 convenience fee and print the tickets right from your computer.  To purchase\, simply click the link below and enter the special code "kings".(Based on availability\, the earlier you get in\, the better the seats and value). \n\n																 \n\n																 \n\n																CLICK HERE TO GET TICKETS!\n\n																\n\n																 \n\n																Offer Code: Kings\n\n																 \n\n																 \n\n																We encourage you to invite their friends and family to join them for this special game through this offer.  We want to pack Sleep Train Arena with a sold out crowd of our extended family!  \n\n																 \n\n																                               \n\n																Steve Gracio\n\n																916-928-6942\n\n																sgracio@kings.com
X-ALT-DESC;FMTTYPE=text/html:&nbsp\;<br />\n<table align="center" border="0" cellpadding="0" cellspacing="0" style="width:602px\;" width="602">\n	<tbody>\n		<tr style="height:100px\;">\n			<td style="height:100px\;background:#47257c\;padding-bottom:0in\;padding-top:0in\;padding-left:0in\;padding-right:0in\;width:100%\;vertical-align:top\;">\n				&nbsp\;</td>\n		</tr>\n		<tr>\n			<td style="padding-bottom:0in\;padding-top:0in\;padding-left:0in\;padding-right:0in\;width:100%\;">\n				<table border="0" cellpadding="0" cellspacing="0" style="width:100%\;" width="100%">\n					<tbody>\n						<tr>\n							<td style="padding-bottom:0in\;padding-top:7.5pt\;padding-left:0in\;padding-right:0in\;vertical-align:top\;">\n								<table border="0" cellpadding="0" cellspacing="0" style="width:100%\;" width="100%">\n									<tbody>\n										<tr>\n											<td style="padding-bottom:0in\;padding-top:0in\;padding-left:0in\;padding-right:0in\;width:100%\;">\n												<table border="0" cellpadding="0" cellspacing="0" style="width:100%\;" width="100%">\n													<tbody>\n														<tr>\n															<td style="border-top:#371a65 1pt solid\;border-right:#371a65 1pt solid\;background:#371a65\;border-bottom:#371a65 1pt solid\;padding-bottom:7.5pt\;padding-top:7.5pt\;padding-left:7.5pt\;border-left:#371a65 1pt solid\;padding-right:7.5pt\;width:100%\;vertical-align:top\;">\n																<strong><span style="color:white\;"><span style="font-family:tahoma\,sans-serif\;"><span style="font-size:10.5pt\;">Complimentary Tickets!</span></span></span></strong></td>\n														</tr>\n														<tr>\n															<td style="border-top:#371a65 1pt solid\;border-right:#371a65 1pt solid\;background:white\;border-bottom:#371a65 1pt solid\;padding-bottom:7.5pt\;padding-top:7.5pt\;padding-left:7.5pt\;border-left:#371a65 1pt solid\;padding-right:7.5pt\;width:100%\;horizontal-align:left\;vertical-align:top\;">\n																<span style="font-family:calibri\,sans-serif\;"><span style="font-size:12pt\;">Please join us for the Sacramento Kings Partner Appreciation Night vs. the Orlando Magic\, Friday\, December 7<sup>th </sup>@ 7 pm. </span></span><br />\n																&nbsp\;<br />\n																<span style="font-size:12pt\;">We&rsquo\;re expecting to pack the house for this game in an effort to support River City Food Bank.&nbsp\; Bring your donations of non-perishable food to Section 123 to support the cause and cheer our Kings on to a big victory!&nbsp\; Happy holidays.</span><br />\n																&nbsp\;<br />\n																<span style="font-size:12pt\;">You will simply have to pay a $10 convenience fee and print the tickets right from your computer.&nbsp\; To purchase\, simply click the link below and enter the special code &ldquo\;kings&rdquo\;.</span><span style="font-size:12pt\;">(Based on availability\, the earlier you get in\, the better the seats and value). </span><br />\n																&nbsp\;<br />\n																&nbsp\;<br />\n																<strong><span style="font-size:20pt\;"><a href="https://oss.ticketmaster.com/html/group_corp_start.htmI?l=EN&amp\;team=sackings&amp\;owner=13206367&amp\;group=4969&amp\;err=&amp\;event=&amp\;customerID=" target="_blank" title="This external link will open in a new window">CLICK HERE TO GET TICKETS!</a></span></strong><br />\n																<br />\n																&nbsp\;<br />\n																<span style="font-family:calibri\,sans-serif\;"><span style="font-size:12pt\;">Offer Code: Kings</span></span><br />\n																&nbsp\;<br />\n																&nbsp\;<br />\n																<span style="font-family:calibri\,sans-serif\;"><span style="font-size:12pt\;">We encourage you to invite their friends and family to join them for this special game through this offer. &nbsp\;We want to pack Sleep Train Arena with a sold out crowd of our extended family!&nbsp\; </span></span><br />\n																&nbsp\;<br />\n																&nbsp\;&nbsp\;&nbsp\;&nbsp\;&nbsp\;&nbsp\;&nbsp\;&nbsp\;&nbsp\;&nbsp\;&nbsp\;&nbsp\;&nbsp\;&nbsp\;&nbsp\;&nbsp\;&nbsp\;&nbsp\;&nbsp\;&nbsp\;&nbsp\;&nbsp\;&nbsp\;&nbsp\;&nbsp\;&nbsp\;&nbsp\;&nbsp\;&nbsp\;&nbsp\;&nbsp\;<br />\n																<strong>Steve Gracio</strong><br />\n																<strong><span style="color:black\;">916-928-6942</span></strong><br />\n																<strong><span style="color:black\;"><a _bcc="" _body="" _cc="" _subject="" _to="sgracio@kings.com">sgracio@kings.com</a></span></strong></td>\n														</tr>\n														<tr style="height:10px\;">\n															<td style="height:10px\;padding-bottom:0in\;padding-top:0in\;padding-left:0in\;padding-right:0in\;width:100%\;vertical-align:top\;">\n																&nbsp\;</td>\n														</tr>\n													</tbody>\n												</table>\n											</td>\n										</tr>\n									</tbody>\n								</table>\n							</td>\n						</tr>\n					</tbody>\n				</table>\n			</td>\n		</tr>\n	</tbody>\n</table>\n
LOCATION:
UID:e.1155.748
SEQUENCE:3
DTSTAMP:20260422T142525Z
URL:https://business.natomaschamber.org/events/details/sacramento-kings-partner-appreciation-night-vs-orlando-magic-12-07-2012-748
END:VEVENT

END:VCALENDAR
