BEGIN:VCALENDAR
VERSION:2.0
PRODID:-//ChamberMaster//Event Calendar 2.0//EN
METHOD:PUBLISH
X-PUBLISHED-TTL:P3D
REFRESH-INTERVAL:P3D
CALSCALE:GREGORIAN
BEGIN:VEVENT
DTSTART:20120608T143000Z
DTEND:20120609T064500Z
X-MICROSOFT-CDO-ALLDAYEVENT:FALSE
SUMMARY:Sacramento Business First Event-06/08/12
DESCRIPTION:Small Businesses: FREE workshop\, mark your calendar and SAVE the date!\n\n	The City of Sacramento is planning a workshop designed to connect you to services and opportunities aimed at helping your business thrive. This FREE workshop will include information on business counseling\, marketing and social media\, finance and business tax programs\, and more!\n\n	The workshop will also feature:\n\n	An economic forecast update by local economic development researcher Ryan Sharp\, who will discuss the latest economic trends taking place in our region\n\n	Informational booths and networking opportunities\n\n	Food and beverages
X-ALT-DESC;FMTTYPE=text/html:Small Businesses: FREE workshop\, mark your calendar and SAVE the date!\n<p style="margin-bottom: 0in">\n	The City of Sacramento is planning a workshop designed to connect you to services and opportunities aimed at helping your business thrive. This FREE workshop will include information on business counseling\, marketing and social media\, finance and business tax programs\, and more!</p>\n<p style="margin-bottom: 0in">\n	The workshop will also feature:</p>\n<p style="margin-bottom: 0in">\n	An economic forecast update by local economic development researcher Ryan Sharp\, who will discuss the latest economic trends taking place in our region</p>\n<p style="margin-bottom: 0in">\n	Informational booths and networking opportunities</p>\n<p style="margin-bottom: 0in">\n	Food and beverages</p>\n
LOCATION:Woodlake Hotel 500 Leisure Lane\, Sacramento
UID:e.1155.580
SEQUENCE:3
DTSTAMP:20260422T222608Z
URL:https://business.natomaschamber.org/events/details/sacramento-business-first-event-06-08-12-06-08-2012-580
END:VEVENT

END:VCALENDAR
