BEGIN:VCALENDAR
VERSION:2.0
PRODID:-//ChamberMaster//Event Calendar 2.0//EN
METHOD:PUBLISH
X-PUBLISHED-TTL:P3D
REFRESH-INTERVAL:P3D
CALSCALE:GREGORIAN
BEGIN:VEVENT
DTSTART:20131109T230000Z
DTEND:20131110T050000Z
X-MICROSOFT-CDO-ALLDAYEVENT:FALSE
SUMMARY:Sac Valley Teen Talent Competition AUDITIONS
DESCRIPTION:Sac Valley Teen Talent launches a new year long\, 11 city\, youth talent program benefiting A Community For Peace\, Citrus Heights\, CA and Gravity Services\, Sacramento\, CA. to aid and support the at-risk youth and teen violence prevention programs. This creative and innovative program launches a public awareness campaign to educate all about the free teen violence intervention and prevention services offered under ACFP and Gravity Services foster youth programs and an outlet for teens to find who they are\, build their self-esteem and compete for cash\, prizes\, record deals and scholarships while building strong relationships with their peers. First up for Auditions -North Sacramento (Natomas)\, City of Davis\, West Sacramento North Sacramento City Finals Dec.13th (Venue TBD)
X-ALT-DESC;FMTTYPE=text/html:Sac Valley Teen Talent launches a new year long\, 11 city\, youth talent program benefiting A Community For Peace\, Citrus Heights\, CA and Gravity Services\, Sacramento\, CA. to aid and support the at-risk youth and teen violence prevention programs. This creative and innovative program launches a public awareness campaign to educate all about the free teen violence intervention and prevention services offered under ACFP and Gravity Services foster youth programs and an outlet for teens to find who they are\, build their self-esteem and compete for cash\, prizes\, record deals and scholarships while building strong relationships with their peers. First up for Auditions -North Sacramento (Natomas)\, City of Davis\, West Sacramento North Sacramento City Finals Dec.13th (Venue TBD)
LOCATION:1275 Starboard Drive\, West Sacramento\, Ca 95691
UID:e.1155.863
SEQUENCE:3
DTSTAMP:20260421T205354Z
URL:https://business.natomaschamber.org/events/details/sac-valley-teen-talent-competition-auditions-11-09-2013-863
END:VEVENT

END:VCALENDAR
