BEGIN:VCALENDAR
VERSION:2.0
PRODID:-//ChamberMaster//Event Calendar 2.0//EN
METHOD:PUBLISH
X-PUBLISHED-TTL:P3D
REFRESH-INTERVAL:P3D
CALSCALE:GREGORIAN
BEGIN:VEVENT
DTSTART:20121201T030000Z
DTEND:20121201T070000Z
X-MICROSOFT-CDO-ALLDAYEVENT:FALSE
SUMMARY:Rotary Night at the Kings
DESCRIPTION:Support Rotary's END POLIO NOW campaign while watching your Sacramento Kings take on the Indiana Pacers \n	\n		A Portion of ticket proceeds will be donated to the END POLIO NOW campaign ($6-$15 per ticket sold). \n	\n		The Sacramento Kings will MATCH any upper level sponsor tickets purchased for donation to non-profit organizations.
X-ALT-DESC;FMTTYPE=text/html:<div style="color: gray">\n	<p align="left">\n		&nbsp\;</p>\n	<p>\n		<font size="4">Support Rotary&rsquo\;s END POLIO NOW campaign while watching your Sacramento Kings take on the Indiana Pacers </font></p>\n	<p>\n		<font size="2">A Portion of ticket proceeds will be donated to the END POLIO NOW campaign ($6-$15 per ticket sold). </font></p>\n	<p>\n		<font size="2">The Sacramento Kings will MATCH any upper level sponsor tickets purchased for donation to non-profit organizations. <span _fck_bookmark="1" style="display: none">&nbsp\;</span></font></p>\n</div>\n
LOCATION:
UID:e.1155.617
SEQUENCE:3
DTSTAMP:20260422T142403Z
URL:https://business.natomaschamber.org/events/details/rotary-night-at-the-kings-11-30-2012-617
END:VEVENT

END:VCALENDAR
