BEGIN:VCALENDAR
VERSION:2.0
PRODID:-//ChamberMaster//Event Calendar 2.0//EN
METHOD:PUBLISH
X-PUBLISHED-TTL:P3D
REFRESH-INTERVAL:P3D
CALSCALE:GREGORIAN
BEGIN:VEVENT
DTSTART:20110722T141500Z
DTEND:20110722T160000Z
X-MICROSOFT-CDO-ALLDAYEVENT:FALSE
SUMMARY:Rotary Club of Natomas
DESCRIPTION:Weekly Meetings\, Fridays at 7:15 am
X-ALT-DESC;FMTTYPE=text/html:Weekly Meetings\, Fridays at 7:15 am
LOCATION:Hampton Inn\, 3021 Advantage Way Sacramento\, CA 95834
UID:e.1155.261
SEQUENCE:3
DTSTAMP:20260423T161320Z
URL:https://business.natomaschamber.org/events/details/rotary-club-of-natomas-07-22-2011-261
END:VEVENT

END:VCALENDAR
