BEGIN:VCALENDAR
VERSION:2.0
PRODID:-//ChamberMaster//Event Calendar 2.0//EN
METHOD:PUBLISH
X-PUBLISHED-TTL:P3D
REFRESH-INTERVAL:P3D
CALSCALE:GREGORIAN
BEGIN:VEVENT
DTSTART:20110914T170000Z
DTEND:20110914T170000Z
X-MICROSOFT-CDO-ALLDAYEVENT:FALSE
SUMMARY:Ribbon Cutting/Grand Opening-Qdoba Mexican Grill
DESCRIPTION:Come support this local Natomas business for its grand opening and ribbon cutting ceremony.
X-ALT-DESC;FMTTYPE=text/html:Come support this local Natomas business for its grand opening and ribbon cutting ceremony.
LOCATION:2281 Del Paso Road\, Suite 100 Sacramento 95835
UID:e.1155.272
SEQUENCE:3
DTSTAMP:20260423T132447Z
URL:https://business.natomaschamber.org/events/details/ribbon-cutting-grand-opening-qdoba-mexican-grill-09-14-2011-272
END:VEVENT

END:VCALENDAR
