BEGIN:VCALENDAR
VERSION:2.0
PRODID:-//ChamberMaster//Event Calendar 2.0//EN
METHOD:PUBLISH
X-PUBLISHED-TTL:P3D
REFRESH-INTERVAL:P3D
CALSCALE:GREGORIAN
BEGIN:VEVENT
DTSTART:20111208T190000Z
DTEND:20111208T200000Z
X-MICROSOFT-CDO-ALLDAYEVENT:FALSE
SUMMARY:Ribbon Cutting for Natomas School of Music-12/8/11
DESCRIPTION:Please join us for our Ribbon Cutting to celebrate our remodeling and additional space we have acquired.
X-ALT-DESC;FMTTYPE=text/html:Please join us&nbsp\;for our Ribbon Cutting to celebrate our remodeling and additional space we have acquired.
LOCATION:Natomas School of Music 4440 Duckhorn Drive\, Suite 400B Sacramento CA 95834
UID:e.1155.286
SEQUENCE:3
DTSTAMP:20260423T074003Z
URL:https://business.natomaschamber.org/events/details/ribbon-cutting-for-natomas-school-of-music-12-8-11-12-08-2011-286
END:VEVENT

END:VCALENDAR
