BEGIN:VCALENDAR
VERSION:2.0
PRODID:-//ChamberMaster//Event Calendar 2.0//EN
METHOD:PUBLISH
X-PUBLISHED-TTL:P3D
REFRESH-INTERVAL:P3D
CALSCALE:GREGORIAN
BEGIN:VEVENT
DTSTART:20120511T220000Z
DTEND:20120512T030000Z
X-MICROSOFT-CDO-ALLDAYEVENT:FALSE
SUMMARY:Ribbon Cutting Farmers Insurance District Office
DESCRIPTION:A Grand Opening\, Ribbon cutting .... This will be a huge event with a live band\, BBQ tri- tip sandwiches\, And tours of the new office\, Raffle\, and vendor booths\, and we would love the community to be involved.  Ribbon cutting to take place around 5:30pm.
X-ALT-DESC;FMTTYPE=text/html:A Grand Opening\, Ribbon cutting .... This will be&nbsp\;a huge event with a live band\, BBQ tri- tip sandwiches\, And tours of the new office\, Raffle\, and vendor booths\, and we would love the community to be involved.&nbsp\; Ribbon cutting to take&nbsp\;place around 5:30pm.&nbsp\;
LOCATION:4700 Duckhorn Drive Sacramento
UID:e.1155.327
SEQUENCE:3
DTSTAMP:20260423T012622Z
URL:https://business.natomaschamber.org/events/details/ribbon-cutting-farmers-insurance-district-office-05-11-2012-327
END:VEVENT

END:VCALENDAR
