BEGIN:VCALENDAR
VERSION:2.0
PRODID:-//ChamberMaster//Event Calendar 2.0//EN
METHOD:PUBLISH
X-PUBLISHED-TTL:P3D
REFRESH-INTERVAL:P3D
CALSCALE:GREGORIAN
BEGIN:VEVENT
DTSTART:20140503T010000Z
DTEND:20140503T030000Z
X-MICROSOFT-CDO-ALLDAYEVENT:FALSE
SUMMARY:Power Pizza Fundraising Event
DESCRIPTION:Power Pizza fundraising event to benefit NAMI Sacramento. An organization that provides free services to individuals and families affected by mental illness. Chicago's Pizza is donating a portion of the proceeds to NAMI Sacramento.
X-ALT-DESC;FMTTYPE=text/html:Power Pizza fundraising event to benefit NAMI Sacramento. An organization that provides free services to individuals and families affected by mental illness. Chicago&#39\;s Pizza is donating a portion of the proceeds to NAMI Sacramento.
LOCATION:Chicago's Pizza 4391 Gateway Park Blvd.\, #600 Sacramento\, CA
UID:e.1155.1161
SEQUENCE:3
DTSTAMP:20260421T101015Z
URL:https://business.natomaschamber.org/events/details/power-pizza-fundraising-event-05-02-2014-1161
END:VEVENT

END:VCALENDAR
