BEGIN:VCALENDAR
VERSION:2.0
PRODID:-//ChamberMaster//Event Calendar 2.0//EN
METHOD:PUBLISH
X-PUBLISHED-TTL:P3D
REFRESH-INTERVAL:P3D
CALSCALE:GREGORIAN
BEGIN:VEVENT
DTSTART:20130301T020000Z
DTEND:20130301T040000Z
X-MICROSOFT-CDO-ALLDAYEVENT:FALSE
SUMMARY:NPP February Mixer
DESCRIPTION:Come join us at the Natomas Power Partner February business mixer.  Good company\, good food and drink\, good speaker\, and great opportunity to network with other business professionals.  Guests are welcome\, so bring a friend.
X-ALT-DESC;FMTTYPE=text/html:Come join us at the Natomas Power Partner February business mixer. &nbsp\;Good company\, good food and drink\, good speaker\, and great opportunity to network with other business professionals. &nbsp\;Guests are welcome\, so bring a friend.
LOCATION:Mimi's Cafe\, 2029 Alta Arden Expy.\, Sacramento\, CA 95825
UID:e.1155.786
SEQUENCE:3
DTSTAMP:20260422T094207Z
URL:https://business.natomaschamber.org/events/details/npp-february-mixer-02-28-2013-786
END:VEVENT

END:VCALENDAR
