BEGIN:VCALENDAR
VERSION:2.0
PRODID:-//ChamberMaster//Event Calendar 2.0//EN
METHOD:PUBLISH
X-PUBLISHED-TTL:P3D
REFRESH-INTERVAL:P3D
CALSCALE:GREGORIAN
BEGIN:VEVENT
DTSTART:20121018T160000Z
DTEND:20121018T210000Z
X-MICROSOFT-CDO-ALLDAYEVENT:FALSE
SUMMARY:North Natomas Library and Natomas Chamber of Commerce Job Fair
DESCRIPTION:The Natomas Chamber of Commerce and the North Natomas Library present a Job Fair. Connect with employers and resources to help you find that perfect job.
X-ALT-DESC;FMTTYPE=text/html:<div style="color: gray">\n	The Natomas Chamber of Commerce and the North Natomas Library present a Job Fair. Connect with employers and resources to help you find that perfect job.</div>\n
LOCATION:North Natomas Library 4660 Via Ingoglia Drive Sacramento\, CA 95835
UID:e.1155.615
SEQUENCE:3
DTSTAMP:20260422T160633Z
URL:https://business.natomaschamber.org/events/details/north-natomas-library-and-natomas-chamber-of-commerce-job-fair-10-18-2012-615
END:VEVENT

END:VCALENDAR
