BEGIN:VCALENDAR
VERSION:2.0
PRODID:-//ChamberMaster//Event Calendar 2.0//EN
METHOD:PUBLISH
X-PUBLISHED-TTL:P3D
REFRESH-INTERVAL:P3D
CALSCALE:GREGORIAN
BEGIN:VEVENT
DTSTART:20140104T210000Z
DTEND:20140104T230000Z
X-MICROSOFT-CDO-ALLDAYEVENT:FALSE
SUMMARY:North Natomas Library 4th Birthday
DESCRIPTION:Sacramento Public Library\n\n								January 4th 2014\n						\n					\n				\n			\n		\n		\n			\n				 \n		\n		\n			\n				 \n		\n		\n			\n				\n					\n						\n							\n								North Natomas Library's 4th Birthday Party January 4\n\n								\n\n								\n									North Natomas\, it's your birthday\n								\n									Come celebrate four years on Saturday\, January 4 at 1 p.m.\n								\n									 \n								\n									The North Natomas Library has a birthday coming up! Help us celebrate four years in our current location with carnival games and prizes\, face painting\, and food vendors from SactoMoFo mobile food trucks. \n								\n									 \n								\n									This event is generously supported by the Friends of the North Natomas Library.\n								\n									 \n								\n									4th Birthday Party\n								\n									North Natomas Library\n								\n									January 4\, Saturday\, 1 p.m. to 3 p.m.
X-ALT-DESC;FMTTYPE=text/html:<table border="0" cellpadding="0" cellspacing="0" width="600">\n	<tbody>\n		<tr>\n			<td colspan="1" rowspan="1" width="100%">\n				<table border="0" cellpadding="5" cellspacing="0" height="59" style="margin-bottom: 6px\; margin-top: 6px\;" width="400">\n					<tbody>\n						<tr>\n							<td align="left" colspan="1" rowspan="1" style="font-size:10pt\;font-family:Verdana\,Geneva\,Arial\,Helvetica\,sans-serif">\n								<span style="font-size:18pt\;font-family:Verdana\,Geneva\,Arial\,Helvetica\,sans-serif">Sacramento Public Library</span><br />\n								<b><span class="aBn" data-term="goog_2079697354" tabindex="0"><span class="aQJ">January 4th 2014</span></span></b></td>\n						</tr>\n					</tbody>\n				</table>\n			</td>\n		</tr>\n		<tr>\n			<td colspan="1" height="15" rowspan="1">\n				&nbsp\;</td>\n		</tr>\n		<tr>\n			<td colspan="1" rowspan="1" width="100%">\n				&nbsp\;</td>\n		</tr>\n		<tr>\n			<td colspan="1" rowspan="1" width="100%">\n				<table border="0" cellpadding="5" cellspacing="0" height="260" style="margin-bottom: 6px\; margin-top: 6px\;" width="400">\n					<tbody>\n						<tr>\n							<td align="left" colspan="1" rowspan="1" style="font-size:10pt\;font-family:Verdana\,Geneva\,Arial\,Helvetica\,sans-serif">\n								<span style="font-size:10pt\;font-family:Verdana\,Geneva\,Arial\,Helvetica\,sans-serif"><b>North Natomas Library&#39\;s 4th Birthday Party <span class="aBn" data-term="goog_2079697355" tabindex="0"><span class="aQJ">January 4</span></span></b></span><br />\n								<br />\n								<p style="margin-top:0px\;margin-bottom:0px">\n									<span>North Natomas\, it&#39\;s your birthday</span></p>\n								<p style="margin-top:0px\;margin-bottom:0px">\n									<span>Come celebrate four years on <span class="aBn" data-term="goog_2079697356" tabindex="0"><span class="aQJ">Saturday\, January 4 at 1 p.m.</span></span></span></p>\n								<p style="margin-top:0px\;margin-bottom:0px">\n									<span>&nbsp\;</span></p>\n								<p style="margin-top:0px\;margin-bottom:0px">\n									<span>The North Natomas Library has a birthday coming up! Help us celebrate four years in our current location with carnival games and prizes\, face painting\, and food vendors from </span><a href="http://r20.rs6.net/tn.jsp?e=0014kygKg74LwxZ4BtzS6Vs0PJXjtCpnOYYSCK1Qmz9O1V0fWeyV-KxReajvqkOUuuvRzdE9pnI6gybAx36T5uPZV8mWrKKpbWAXF_IOFmjSI19VgrticUigZzZzrF1rZP3" shape="rect" style="color:rgb(76\,140\,52)\;text-decoration:underline" target="_blank">SactoMoFo</a><span> mobile food trucks. </span></p>\n								<p style="margin-top:0px\;margin-bottom:0px">\n									<span>&nbsp\;</span></p>\n								<p style="margin-top:0px\;margin-bottom:0px">\n									<span>This event is generously supported by the </span><a href="http://r20.rs6.net/tn.jsp?e=0014kygKg74Lwys8tmqNrmy65NcR8iKTH382vMS7S6WlNQdXci1sBsBtJBou-O5YkiWCkEZxyqH5U7_y21VMJxvAgeL7eLlouxK3I35pwzOHqeWDgfEoGv239pm2_2GrqI8EPLl0bvgsSI=" shape="rect" style="color:rgb(76\,140\,52)\;text-decoration:underline" target="_blank">Friends of the North Natomas Library</a><span>.</span></p>\n								<p style="margin-top:0px\;margin-bottom:0px">\n									<span>&nbsp\;</span></p>\n								<p style="margin-top:0px\;margin-bottom:0px">\n									<a href="http://r20.rs6.net/tn.jsp?e=0014kygKg74LwyCqxqeMI3U6rJGgYzKcGllC64t9RtJO-APiJGo9yCF8p1ttMBDFvLBK2LQjgYOdHV20XqmZxAvSbhxjhBXXJJq3h84XMjdNpBaNbWRP-hsqKJaPT6d4KqsgBM0BEDQ4FB2NHpjp1-Gllr289ZPZBIHXWdKYTCbcBs=" shape="rect" style="color:rgb(76\,140\,52)\;text-decoration:underline" target="_blank">4th Birthday Party</a></p>\n								<p style="margin-top:0px\;margin-bottom:0px">\n									<a href="http://r20.rs6.net/tn.jsp?e=0014kygKg74LwxhZDN2uK8xISVNRvbamueC89wCsbPgOoRPhgDA2NrwnmD2m9fo0_BGxUXfda2ZOpPSiYuo6hm9HLAA0Jrvl7iXmbA24dkP25Mo5UqAeiznX4HwvAJ-YAGyK4vMQblfrbMJhQ1OOUNjm-ZVxiCTfcqn" shape="rect" style="color:rgb(76\,140\,52)\;text-decoration:underline" target="_blank">North Natomas Library</a></p>\n								<p style="margin-top:0px\;margin-bottom:0px">\n									<span><span class="aBn" data-term="goog_2079697357" tabindex="0"><span class="aQJ">January 4</span></span></span><span>\, <span class="aBn" data-term="goog_2079697358" tabindex="0"><span class="aQJ">Saturday\, 1 p.m. to 3 p.m.</span></span></span></p>\n								<p style="margin-top:0px\;margin-bottom:0px">\n									<span>&nbsp\;</span></p>\n							</td>\n						</tr>\n					</tbody>\n				</table>\n			</td>\n		</tr>\n	</tbody>\n</table>\n
LOCATION:
UID:e.1155.867
SEQUENCE:3
DTSTAMP:20260421T160751Z
URL:https://business.natomaschamber.org/events/details/north-natomas-library-4th-birthday-01-04-2014-867
END:VEVENT

END:VCALENDAR
