BEGIN:VCALENDAR
VERSION:2.0
PRODID:-//ChamberMaster//Event Calendar 2.0//EN
METHOD:PUBLISH
X-PUBLISHED-TTL:P3D
REFRESH-INTERVAL:P3D
CALSCALE:GREGORIAN
BEGIN:VEVENT
DTSTART:20120609T210000Z
DTEND:20120609T230000Z
X-MICROSOFT-CDO-ALLDAYEVENT:FALSE
SUMMARY:Natomas School of Music 6th Anniversary Celebration and open house
DESCRIPTION:LIVE MUSIC AND ENTERTAINMENT\n	\n		REFRESHMENTS\n	\n		TOURS OF THE STUDIOS\n	\n		FREE DRAWING FOR A NEW EPIPHONE ELECTRIC GUITAR\n\n\n	( Must be 18 yrs old to enter and present to win)
X-ALT-DESC;FMTTYPE=text/html:<ul>\n	<li>\n		LIVE MUSIC AND ENTERTAINMENT</li>\n	<li>\n		REFRESHMENTS</li>\n	<li>\n		TOURS OF THE STUDIOS</li>\n	<li>\n		FREE DRAWING FOR A NEW EPIPHONE ELECTRIC GUITAR</li>\n</ul>\n<div style="text-align: center">\n	( Must be 18 yrs old to enter and present to win)<br />\n	<br />\n	&nbsp\;</div>\n
LOCATION:4440 Duckhorn Drive Sacramento CA 95834
UID:e.1155.591
SEQUENCE:3
DTSTAMP:20260422T222934Z
URL:https://business.natomaschamber.org/events/details/natomas-school-of-music-6th-anniversary-celebration-and-open-house-06-09-2012-591
END:VEVENT

END:VCALENDAR
