BEGIN:VCALENDAR
VERSION:2.0
PRODID:-//ChamberMaster//Event Calendar 2.0//EN
METHOD:PUBLISH
X-PUBLISHED-TTL:P3D
REFRESH-INTERVAL:P3D
CALSCALE:GREGORIAN
BEGIN:VEVENT
DTSTART:20131115T020000Z
DTEND:20131115T040000Z
X-MICROSOFT-CDO-ALLDAYEVENT:FALSE
SUMMARY:Natomas Power Partners Winter Mixer
DESCRIPTION:Don't miss this opportunity to meet and get to know local business people\, while enjoying a welcoming atmosphere and food and beverages. The Natomas Power Partners Mixers are a great place to meet new friends\, revisit old ones\, and share information about your business. This Mixer will also provide a chance to learn about the Affordable Care Act and how it might impact your business. Frank Juliano\, a finance expert from The Principle\, will be the speaker. So mark your calendar and bring a guest!
X-ALT-DESC;FMTTYPE=text/html:Don&#39\;t miss this opportunity to meet and get to know local business people\, while enjoying a welcoming atmosphere and food and beverages. The Natomas Power Partners Mixers are a great place to meet new friends\, revisit old ones\, and share information about your business. This Mixer will also provide a chance to learn about the Affordable Care Act and how it might impact your business. Frank Juliano\, a finance expert from The Principle\, will be the speaker. So mark your calendar and bring a guest!
LOCATION:Mimi's Cafe\, 2029 Arden Expressway\, Sacramento\, 95825
UID:e.1155.865
SEQUENCE:3
DTSTAMP:20260421T192151Z
URL:https://business.natomaschamber.org/events/details/natomas-power-partners-winter-mixer-11-14-2013-865
END:VEVENT

END:VCALENDAR
