BEGIN:VCALENDAR
VERSION:2.0
PRODID:-//ChamberMaster//Event Calendar 2.0//EN
METHOD:PUBLISH
X-PUBLISHED-TTL:P3D
REFRESH-INTERVAL:P3D
CALSCALE:GREGORIAN
BEGIN:VEVENT
DTSTART:20130816T010000Z
DTEND:20130816T030000Z
X-MICROSOFT-CDO-ALLDAYEVENT:FALSE
SUMMARY:Natomas Power Partners Mixer
DESCRIPTION:Natomas Power Partners is hosting a business mixer at On the Border.  Members and guests are invited to share good food\, good beverages\, great networking\, and an entertaining and informative speaker with important information to us all about the IRS.  Bring a friend and come join us!
X-ALT-DESC;FMTTYPE=text/html:Natomas Power Partners is hosting a business mixer at On the Border. &nbsp\;Members and guests are invited to share good food\, good beverages\, great networking\, and an entertaining and informative speaker with important information to us all about the IRS. &nbsp\;Bring a friend and come join us!
LOCATION:On the Border\, 3521 Truxel Rd.\, Sacramento\, CA 95834
UID:e.1155.845
SEQUENCE:3
DTSTAMP:20260421T235807Z
URL:https://business.natomaschamber.org/events/details/natomas-power-partners-mixer-08-15-2013-845
END:VEVENT

END:VCALENDAR
