BEGIN:VCALENDAR
VERSION:2.0
PRODID:-//ChamberMaster//Event Calendar 2.0//EN
METHOD:PUBLISH
X-PUBLISHED-TTL:P3D
REFRESH-INTERVAL:P3D
CALSCALE:GREGORIAN
BEGIN:VEVENT
DTSTART:20121026T010000Z
DTEND:20121026T030000Z
X-MICROSOFT-CDO-ALLDAYEVENT:FALSE
SUMMARY:Natomas Power Partners Business Mixer
DESCRIPTION:Come join us for an evening of fun and food\, a chance to meet and get to know local business people\, and to listen to a great speaker.  Our speaker is from SCORE\, and is sure to provide information that will be of value to everyone.  No cost\, so just come on out.
X-ALT-DESC;FMTTYPE=text/html:Come join us for an evening of fun and food\, a chance to meet and get to know local business people\, and to listen to a great speaker. &nbsp\;Our speaker is from SCORE\, and is sure to provide information that will be of value to everyone. &nbsp\;No cost\, so just come on out. &nbsp\;
LOCATION:Mel's Diner\, 2057 Arena Blvd.\, Sacramento 95834 On the corner of Arena and Truxel\, in Natomas area
UID:e.1155.608
SEQUENCE:3
DTSTAMP:20260422T160334Z
URL:https://business.natomaschamber.org/events/details/natomas-power-partners-business-mixer-10-25-2012-608
END:VEVENT

END:VCALENDAR
