BEGIN:VCALENDAR
VERSION:2.0
PRODID:-//ChamberMaster//Event Calendar 2.0//EN
METHOD:PUBLISH
X-PUBLISHED-TTL:P3D
REFRESH-INTERVAL:P3D
CALSCALE:GREGORIAN
BEGIN:VEVENT
DTSTART:20130517T010000Z
DTEND:20130517T030000Z
X-MICROSOFT-CDO-ALLDAYEVENT:FALSE
SUMMARY:Natomas Power Partners Business Mixer
DESCRIPTION:The Natomas Power Partners\, a local business referral group\, is holding its quarterly business mixer.  There will be food\, beverages\, prizes\, lots of opportunity to network with a wide variety of fellow professionals\, and a great speaker.  Our speaker is Lois Skidmore\, owner of Dragon Fire Martial Arts.  She began her martial arts training in 1973\, and is their chief instructor of Cho Hwa Mo Yang Do\, as well as a master of many other disciplines.  Lois will be sharing some great tips on self-defense and personal protection.  Members and guests are welcome\, so mark your calendar and come join us!
X-ALT-DESC;FMTTYPE=text/html:<p style="margin: 0px\; font-family: Arial\; color: rgb(35\, 35\, 35)\; ">\n	The Natomas Power Partners\, a local business referral group\, is holding its quarterly business mixer.&nbsp\; There will be food\, beverages\, prizes\, lots of opportunity to network with a wide variety of fellow professionals\, and a great speaker.&nbsp\; Our speaker is Lois Skidmore\, owner of Dragon Fire Martial Arts.&nbsp\; She began her martial arts training in 1973\, and is their chief instructor of Cho Hwa Mo Yang Do\, as well as a master of many other disciplines.&nbsp\; Lois will be sharing some great tips on self-defense and personal protection.&nbsp\; Members and guests are welcome\, so mark your calendar and come join us!</p>\n
LOCATION:On the Border Mexican Grill & Cantina
UID:e.1155.829
SEQUENCE:3
DTSTAMP:20260422T043027Z
URL:https://business.natomaschamber.org/events/details/natomas-power-partners-business-mixer-05-16-2013-829
END:VEVENT

END:VCALENDAR
