BEGIN:VCALENDAR
VERSION:2.0
PRODID:-//ChamberMaster//Event Calendar 2.0//EN
METHOD:PUBLISH
X-PUBLISHED-TTL:P3D
REFRESH-INTERVAL:P3D
CALSCALE:GREGORIAN
BEGIN:VEVENT
DTSTART:20120506T160000Z
DTEND:20120506T190000Z
X-MICROSOFT-CDO-ALLDAYEVENT:FALSE
SUMMARY:Natomas May Day Run/Walk 5K & 10K
DESCRIPTION:The 3rd Annual Natomas May Day Run/ Walk will raise much needed funds for Stanford Settlement Neighborhood Center\, a social-service nonprofit vital to the Natomas landscape. Come join us in Promoting a Healthy Community!
X-ALT-DESC;FMTTYPE=text/html:The 3rd Annual Natomas May Day Run/ Walk will raise much needed funds for Stanford Settlement Neighborhood Center\, a social-service nonprofit vital to the Natomas landscape. Come join us in <em><strong>Promoting a Healthy Community!</strong></em>
LOCATION:Start and Finish at South Natomas Community Center\, 2901 Truxel Road.
UID:e.1155.289
SEQUENCE:3
DTSTAMP:20260422T235239Z
URL:https://business.natomaschamber.org/events/details/natomas-may-day-run-walk-5k-10k-05-06-2012-289
END:VEVENT

END:VCALENDAR
