BEGIN:VCALENDAR
VERSION:2.0
PRODID:-//ChamberMaster//Event Calendar 2.0//EN
METHOD:PUBLISH
X-PUBLISHED-TTL:P3D
REFRESH-INTERVAL:P3D
CALSCALE:GREGORIAN
BEGIN:VEVENT
DTSTART:20121019T003000Z
DTEND:20121019T020000Z
X-MICROSOFT-CDO-ALLDAYEVENT:FALSE
SUMMARY:Natomas May Day Run Volunteer Kick Off Event
DESCRIPTION:There is a lot going on behind the scenes to get ready for next year's Natomas May Day Run (5/5/2013) and we would like to invite you to become part of the volunteer team. Whether you want to expand your network\, develop your skills or share your expertise\, there is an opportunity for you to serve on one of our event committees. Join us for our Volunteer Kick-Off on Thursday\, October 18th at 5:30 p.m. There will be prizes\, refreshments and more\, please RSVP by either email or phone. martha@stanfordsettlement.org or 916-927-1303 x 103.
X-ALT-DESC;FMTTYPE=text/html:There is a lot going on behind the scenes to get ready for next year&rsquo\;s Natomas May Day Run (5/5/2013) and we would like to invite you to become part of the volunteer team. Whether you want to expand your network\, develop your skills or share your expertise\, there is an opportunity for you to serve on one of our event committees. Join us for our Volunteer Kick-Off on Thursday\, October 18th at 5:30 p.m. There will be prizes\, refreshments and more\, please RSVP by either email or phone. martha@stanfordsettlement.org or 916-927-1303 x 103.<br />\n
LOCATION:Stanford Settlement Neighborhood Center 450 West El Camino Avenue Sacramento\, CA 95833
UID:e.1155.618
SEQUENCE:3
DTSTAMP:20260422T160233Z
URL:https://business.natomaschamber.org/events/details/natomas-may-day-run-volunteer-kick-off-event-10-18-2012-618
END:VEVENT

END:VCALENDAR
