BEGIN:VCALENDAR
VERSION:2.0
PRODID:-//ChamberMaster//Event Calendar 2.0//EN
METHOD:PUBLISH
X-PUBLISHED-TTL:P3D
REFRESH-INTERVAL:P3D
CALSCALE:GREGORIAN
BEGIN:VEVENT
DTSTART:20130505T153000Z
DTEND:20130505T190000Z
X-MICROSOFT-CDO-ALLDAYEVENT:FALSE
SUMMARY:Natomas May Day Run
DESCRIPTION:Please join with your family\, friends\, co-workers\, and neighbors in building healthy communities at the 4th Annual Natomas May Day Run. This year promises to be even more exciting as we celebrate Cinco de Mayo!   Stanford Settlement Neighborhood Center\, in conjunction with community leaders and volunteers developed this annual community event to raise the funding needed to support the individuals and families served by the agency.  For more information about sponsorship\, volunteers and online registration please visit out website at: http://stanfordsettlement.org/news/may-day-run/
X-ALT-DESC;FMTTYPE=text/html:<p>\n	Please join with your family\, friends\, co-workers\, and neighbors in building healthy communities at&nbsp\;the 4th Annual Natomas May Day Run. This year promises to be even more exciting as we celebrate Cinco de Mayo!&nbsp\;&nbsp\; Stanford Settlement Neighborhood Center\, in conjunction with community leaders and volunteers developed this annual community event to raise the funding needed to support the individuals and families served by the agency.&nbsp\; For more information about&nbsp\;sponsorship\, volunteers and&nbsp\;online registration please visit out website at: <a href="http://stanfordsettlement.org/news/may-day-run/">http://stanfordsettlement.org/news/may-day-run/</a></p>\n
LOCATION:South Natomas Community Center Park 2901 Truxel Road Sacramento\, CA 95833
UID:e.1155.758
SEQUENCE:3
DTSTAMP:20260422T042625Z
URL:https://business.natomaschamber.org/events/details/natomas-may-day-run-05-05-2013-758
END:VEVENT

END:VCALENDAR
