BEGIN:VCALENDAR
VERSION:2.0
PRODID:-//ChamberMaster//Event Calendar 2.0//EN
METHOD:PUBLISH
X-PUBLISHED-TTL:P3D
REFRESH-INTERVAL:P3D
CALSCALE:GREGORIAN
BEGIN:VEVENT
DTSTART:20110719T190000Z
DTEND:20110719T190000Z
X-MICROSOFT-CDO-ALLDAYEVENT:FALSE
SUMMARY:Natomas Kiwanis Club
DESCRIPTION:Weekly meetings on Tuesdays
X-ALT-DESC;FMTTYPE=text/html:Weekly meetings on Tuesdays
LOCATION:Straw Hat Pizza (4441 E. Commerce Way)
UID:e.1155.260
SEQUENCE:3
DTSTAMP:20260423T160918Z
URL:https://business.natomaschamber.org/events/details/natomas-kiwanis-club-07-19-2011-260
END:VEVENT

END:VCALENDAR
