BEGIN:VCALENDAR
VERSION:2.0
PRODID:-//ChamberMaster//Event Calendar 2.0//EN
METHOD:PUBLISH
X-PUBLISHED-TTL:P3D
REFRESH-INTERVAL:P3D
CALSCALE:GREGORIAN
BEGIN:VEVENT
DTSTART:20110820T160000Z
DTEND:20110820T190000Z
X-MICROSOFT-CDO-ALLDAYEVENT:FALSE
SUMMARY:Natomas Farmers Market
DESCRIPTION:This Sacramento Certified Farmers' Market is back for its second season.
X-ALT-DESC;FMTTYPE=text/html:This Sacramento Certified Farmers&#39\; Market is back for its second season.
LOCATION:Inderkum H.S. parking lot (2500 New Market Drive off Natomas Boulevard).
UID:e.1155.249
SEQUENCE:3
DTSTAMP:20260423T145740Z
URL:https://business.natomaschamber.org/events/details/natomas-farmers-market-08-20-2011-249
END:VEVENT

END:VCALENDAR
