BEGIN:VCALENDAR
VERSION:2.0
PRODID:-//ChamberMaster//Event Calendar 2.0//EN
METHOD:PUBLISH
X-PUBLISHED-TTL:P3D
REFRESH-INTERVAL:P3D
CALSCALE:GREGORIAN
BEGIN:VEVENT
DTSTART:20121217T010000Z
DTEND:20121217T040000Z
X-MICROSOFT-CDO-ALLDAYEVENT:FALSE
SUMMARY:Natomas Christmas Extravaganza
DESCRIPTION:Believe the Miracle - Christmas Extravaganza\n\n	 \n\n	Join us Saturday December 15th and Sunday December 16th from 5-8pm for a free community Christmas celebration. The party will be happening amidst our amazing Christmas decorations\, including thousands of lights\, giant-sized Christmas displays\, beautifully decorated Christmas trees and more.\n\n	 \n\n	There will be fun activities for kids and adults\, including train rides\, instant family portraits\, live Christmas music\, cookie decorating\, face painting and story time.
X-ALT-DESC;FMTTYPE=text/html:<div>\n	Believe the Miracle - Christmas Extravaganza</div>\n<div>\n	&nbsp\;</div>\n<div>\n	Join us Saturday December 15th and Sunday December 16th from 5-8pm for a free community Christmas celebration. The party will be happening amidst our amazing Christmas decorations\, including thousands of lights\, giant-sized Christmas displays\, beautifully decorated Christmas trees and more.</div>\n<div>\n	&nbsp\;</div>\n<div>\n	There will be fun activities for kids and adults\, including train rides\, instant family portraits\, live Christmas music\, cookie decorating\, face painting and story time.</div>\n
LOCATION:1101 National Drive\, Suite A\, 95834 (corner of N. Market and National)
UID:e.1155.747
SEQUENCE:3
DTSTAMP:20260422T123804Z
URL:https://business.natomaschamber.org/events/details/natomas-christmas-extravaganza-12-16-2012-747
END:VEVENT

END:VCALENDAR
