BEGIN:VCALENDAR
VERSION:2.0
PRODID:-//ChamberMaster//Event Calendar 2.0//EN
METHOD:PUBLISH
X-PUBLISHED-TTL:P3D
REFRESH-INTERVAL:P3D
CALSCALE:GREGORIAN
BEGIN:VEVENT
DTSTART:20140409T150000Z
DTEND:20140409T160000Z
X-MICROSOFT-CDO-ALLDAYEVENT:FALSE
SUMMARY:Morning B2B Coffee Mixer- Sherwin Williams Paint
DESCRIPTION:Our Monthly Morning B2B Coffee Mixers are great opportunities to start your business day with some coffee\, refreshments and opportunities to network with others in the local business community. Bring plenty of business cards. Attendance is FREE
X-ALT-DESC;FMTTYPE=text/html:Our Monthly Morning B2B Coffee Mixers are great opportunities to start your business day with some coffee\, refreshments and opportunities to network with others in the local business community. Bring plenty of business cards. Attendance is FREE
LOCATION:1200 Del Paso Road #120 Sacramento\, CA 95834
UID:e.1155.875
SEQUENCE:3
DTSTAMP:20260421T132056Z
URL:https://business.natomaschamber.org/events/details/morning-b2b-coffee-mixer-sherwin-williams-paint-04-09-2014-875
END:VEVENT

END:VCALENDAR
