BEGIN:VCALENDAR
VERSION:2.0
PRODID:-//ChamberMaster//Event Calendar 2.0//EN
METHOD:PUBLISH
X-PUBLISHED-TTL:P3D
REFRESH-INTERVAL:P3D
CALSCALE:GREGORIAN
BEGIN:VEVENT
DTSTART:20140611T150000Z
DTEND:20140611T160000Z
X-MICROSOFT-CDO-ALLDAYEVENT:FALSE
SUMMARY:Morning B2B Coffee Mixer- Seo & Associates
DESCRIPTION:Our Monthly Morning B2B Coffee Mixers are great opportunities to start your business day with some coffee\, refreshments and opportunities to network with others in the local business community. Bring plenty of business cards. Attendance is FREE
X-ALT-DESC;FMTTYPE=text/html:Our Monthly Morning B2B Coffee Mixers are great opportunities to start your business day with some coffee\, refreshments and opportunities to network with others in the local business community. Bring plenty of business cards. Attendance is FREE
LOCATION:4600 Duckhorn Drive Sacramento\, CA 95834
UID:e.1155.877
SEQUENCE:3
DTSTAMP:20260421T085227Z
URL:https://business.natomaschamber.org/events/details/morning-b2b-coffee-mixer-seo-associates-06-11-2014-877
END:VEVENT

END:VCALENDAR
