BEGIN:VCALENDAR
VERSION:2.0
PRODID:-//ChamberMaster//Event Calendar 2.0//EN
METHOD:PUBLISH
X-PUBLISHED-TTL:P3D
REFRESH-INTERVAL:P3D
CALSCALE:GREGORIAN
BEGIN:VEVENT
DTSTART:20140108T160000Z
DTEND:20140108T170000Z
X-MICROSOFT-CDO-ALLDAYEVENT:FALSE
SUMMARY:Morning B2B Coffee Mixer- Save the Date
DESCRIPTION:Our Monthly Morning B2B Coffee Mixers are great opportunities to start your business day with some coffee\, refreshments and opportunities to network with others in the local business community. Bring plenty of business cards. Attendance is FREE
X-ALT-DESC;FMTTYPE=text/html:Our Monthly Morning B2B Coffee Mixers are great opportunities to start your business day with some coffee\, refreshments and opportunities to network with others in the local business community. Bring plenty of business cards. Attendance is FREE
LOCATION:
UID:e.1155.873
SEQUENCE:3
DTSTAMP:20260421T160953Z
URL:https://business.natomaschamber.org/events/details/morning-b2b-coffee-mixer-save-the-date-01-08-2014-873
END:VEVENT

END:VCALENDAR
