BEGIN:VCALENDAR
VERSION:2.0
PRODID:-//ChamberMaster//Event Calendar 2.0//EN
METHOD:PUBLISH
X-PUBLISHED-TTL:P3D
REFRESH-INTERVAL:P3D
CALSCALE:GREGORIAN
BEGIN:VEVENT
DTSTART:20140514T150000Z
DTEND:20140514T160000Z
X-MICROSOFT-CDO-ALLDAYEVENT:FALSE
SUMMARY:Morning B2B Coffee Mixer- Homewood Suites by Hilton
DESCRIPTION:Our Monthly Morning B2B Coffee Mixers are great opportunities to start your business day with some coffee\, refreshments and opportunities to network with others in the local business community. Bring plenty of business cards. Attendance is FREE
X-ALT-DESC;FMTTYPE=text/html:Our Monthly Morning B2B Coffee Mixers are great opportunities to start your business day with some coffee\, refreshments and opportunities to network with others in the local business community. Bring plenty of business cards. Attendance is FREE
LOCATION:3001 Advantage Way Sacramento\, CA 95834
UID:e.1155.876
SEQUENCE:3
DTSTAMP:20260421T102256Z
URL:https://business.natomaschamber.org/events/details/morning-b2b-coffee-mixer-homewood-suites-by-hilton-05-14-2014-876
END:VEVENT

END:VCALENDAR
