BEGIN:VCALENDAR
VERSION:2.0
PRODID:-//ChamberMaster//Event Calendar 2.0//EN
METHOD:PUBLISH
X-PUBLISHED-TTL:P3D
REFRESH-INTERVAL:P3D
CALSCALE:GREGORIAN
BEGIN:VEVENT
DTSTART:20140212T160000Z
DTEND:20140212T170000Z
X-MICROSOFT-CDO-ALLDAYEVENT:FALSE
SUMMARY:Morning B2B Coffee Mixer- Gateway Dental
DESCRIPTION:Our Monthly Morning B2B Coffee Mixers are great opportunities to start your business day with some coffee\, refreshments and opportunities to network with others in the local business community. Bring plenty of business cards. Attendance is FREE.\n\n\n\nA ribbon cutting will occur at the end of the mixer for the grand reopening with a new name "Gateway Oaks Family Dentistry".
X-ALT-DESC;FMTTYPE=text/html:Our Monthly Morning B2B Coffee Mixers are great opportunities to start your business day with some coffee\, refreshments and opportunities to network with others in the local business community. Bring plenty of business cards. Attendance is FREE.<br />\n<br />\nA ribbon cutting will occur at the end of the mixer for the grand reopening with a new name <span style="font-size:10pt\;background-color:rgb(238\,238\,238)\;font-family:Arial\,sans-serif">&quot\;</span><span style="background-color:rgb(238\,238\,238)\;font-family:Arial\,sans-serif">Gateway Oaks Family Dentistry&quot\;. </span>
LOCATION:Gateway Dental 2550 West El Camino Avenue Ste 9.\, Sacramento\, CA 95833
UID:e.1155.1143
SEQUENCE:3
DTSTAMP:20260421T144619Z
URL:https://business.natomaschamber.org/events/details/morning-b2b-coffee-mixer-gateway-dental-02-12-2014-1143
END:VEVENT

END:VCALENDAR
