BEGIN:VCALENDAR
VERSION:2.0
PRODID:-//ChamberMaster//Event Calendar 2.0//EN
METHOD:PUBLISH
X-PUBLISHED-TTL:P3D
REFRESH-INTERVAL:P3D
CALSCALE:GREGORIAN
BEGIN:VEVENT
DTSTART:20140124T010000Z
DTEND:20140124T033000Z
X-MICROSOFT-CDO-ALLDAYEVENT:FALSE
SUMMARY:Monthly Evening Mixer-Residence Inn by Marrriot
DESCRIPTION:Our Monthly Business Mixers are great opportunities to share your business products and services with others in the local business community.\n\n\n\nJoin us for some appetizers and refreshments as we exchange business cards\, leads and referrals.
X-ALT-DESC;FMTTYPE=text/html:<span class="cm_editor_fix">Our Monthly Business Mixers are great opportunities to share your business products and services with others in the local business community.<br />\n<br />\nJoin us for some appetizers and refreshments as we exchange business cards\, leads and referrals.</span>
LOCATION:2410 W El Camino Ave Sacramento CA 95833
UID:e.1155.1139
SEQUENCE:3
DTSTAMP:20260421T161210Z
URL:https://business.natomaschamber.org/events/details/monthly-evening-mixer-residence-inn-by-marrriot-01-23-2014-1139
END:VEVENT

END:VCALENDAR
