BEGIN:VCALENDAR
VERSION:2.0
PRODID:-//ChamberMaster//Event Calendar 2.0//EN
METHOD:PUBLISH
X-PUBLISHED-TTL:P3D
REFRESH-INTERVAL:P3D
CALSCALE:GREGORIAN
BEGIN:VEVENT
DTSTART:20140328T003000Z
DTEND:20140328T020000Z
X-MICROSOFT-CDO-ALLDAYEVENT:FALSE
SUMMARY:Monthly Evening Mixer- Academy of Martial Arts Sacramento
DESCRIPTION:Our Monthly Business Mixers are great opportunities to share your business products and services with others in the local business community.\n\n\n\nJoin us for some appetizers and refreshments as we exchange business cards\, leads and referrals.\n\n\n\nIf you are a MEMBER and bring a raffle item (bottle of wine\, gift card\, etc) we will give you a 30 second commercial to present yourself and your business/company. Bring plenty of business cards.
X-ALT-DESC;FMTTYPE=text/html:<span class="cm_editor_fix">Our Monthly Business Mixers are great opportunities to share your business products and services with others in the local business community.<br />\n<br />\nJoin us for some appetizers and refreshments as we exchange business cards\, leads and referrals.<br />\n<br />\nIf you are a <u><em><strong>MEMBER </strong></em></u>and bring a raffle item (bottle of wine\, gift card\, etc) we will give you a 30 second commercial to present yourself and your business/company. Bring plenty of business cards.</span>
LOCATION:3880 Truxel Road Suite 100 Sacramento\, CA 95834
UID:e.1155.1007
SEQUENCE:3
DTSTAMP:20260421T133321Z
URL:https://business.natomaschamber.org/events/details/monthly-evening-mixer-academy-of-martial-arts-sacramento-03-27-2014-1007
END:VEVENT

END:VCALENDAR
