BEGIN:VCALENDAR
VERSION:2.0
PRODID:-//ChamberMaster//Event Calendar 2.0//EN
METHOD:PUBLISH
X-PUBLISHED-TTL:P3D
REFRESH-INTERVAL:P3D
CALSCALE:GREGORIAN
BEGIN:VEVENT
DTSTART:20120805T030000Z
DTEND:20120805T060000Z
X-MICROSOFT-CDO-ALLDAYEVENT:FALSE
SUMMARY:Madagascar at South Natomas Community Park
DESCRIPTION:Councilman Steve Cohn and Pops in the Park are pleased to present the 2012 Screen on the Green movie series\, featuring Madagascar(Rated PG) at South Natomas Park. Movies are FREE and open to the public. Bring lawn chairs or blankets for seating and snacks. For more information call (916) 808-5240 or visit www.sacscreenonthegreen.com\n	\n		\n\n		Read more here: http://events.sacbee.com/sacramento_ca/events/show/256120044-screen-on-the-green-movie-series-2012#storylink=cpy
X-ALT-DESC;FMTTYPE=text/html:<div style="color: gray">\n	Councilman Steve Cohn and Pops in the Park are pleased to present the 2012 Screen on the Green movie series\, featuring Madagascar(Rated PG) at South Natomas Park. Movies are FREE and open to the public. Bring lawn chairs or blankets for seating and snacks. For more information call (916) 808-5240 or visit www.sacscreenonthegreen.com\n	<div style="text-align: left\; text-transform: none\; width: 1px\; font: 10pt sans-serif\; height: 1px\; color: rgb(0\,0\,0)\; overflow: hidden\; font-size-adjust: none\; font-stretch: normal">\n		<br />\n		Read more here: http://events.sacbee.com/sacramento_ca/events/show/256120044-screen-on-the-green-movie-series-2012#storylink=cpy<span _fck_bookmark="1" style="display: none">&nbsp\;</span></div>\n</div>\n
LOCATION:South Natomas Park 2901 Truxel Road Sacramento\, CA 95833 Read more here: http://events.sacbee.com/sacramento_ca/events/show/256120044-screen-on-the-green-movie-series-2012#storylink=cp
UID:e.1155.595
SEQUENCE:3
DTSTAMP:20260422T191553Z
URL:https://business.natomaschamber.org/events/details/madagascar-at-south-natomas-community-park-08-04-2012-595
END:VEVENT

END:VCALENDAR
