BEGIN:VCALENDAR
VERSION:2.0
PRODID:-//ChamberMaster//Event Calendar 2.0//EN
METHOD:PUBLISH
X-PUBLISHED-TTL:P3D
REFRESH-INTERVAL:P3D
CALSCALE:GREGORIAN
BEGIN:VEVENT
DTSTART:20110602T183000Z
DTEND:20110602T200000Z
X-MICROSOFT-CDO-ALLDAYEVENT:FALSE
SUMMARY:Luncheon - Natomas Unified School District June 2
DESCRIPTION:The Natomas Chamber of Commerce\,in collaboration with the\n\nNatomas Unified School District presents:\n\nChamber Speaker Lunch Series\n\n\n\nFeatured Speaker\n\nBobbie Plough\n\nSuperintendent\, Natomas Unified School District
X-ALT-DESC;FMTTYPE=text/html:The Natomas Chamber of Commerce\,in collaboration with the<br />\nNatomas Unified School District presents:<br />\n<strong>Chamber Speaker Lunch Series</strong><br />\n<br />\nFeatured Speaker<br />\nBobbie Plough<br />\nSuperintendent\, Natomas Unified School District
LOCATION:Malabar Restaurant 2960 Del Paso Road Sacramento\, CA 95834
UID:e.1155.238
SEQUENCE:3
DTSTAMP:20260423T185559Z
URL:https://business.natomaschamber.org/events/details/luncheon-natomas-unified-school-district-june-2-06-02-2011-238
END:VEVENT

END:VCALENDAR
