BEGIN:VCALENDAR
VERSION:2.0
PRODID:-//ChamberMaster//Event Calendar 2.0//EN
METHOD:PUBLISH
X-PUBLISHED-TTL:P3D
REFRESH-INTERVAL:P3D
CALSCALE:GREGORIAN
BEGIN:VEVENT
DTSTART:20121012T190000Z
DTEND:20121012T200000Z
X-MICROSOFT-CDO-ALLDAYEVENT:FALSE
SUMMARY:Lunch'n'Learn
DESCRIPTION:Come Learn how to stay healthy and live a full abundant life through whole food based nutrition.
X-ALT-DESC;FMTTYPE=text/html:Come Learn how to stay healthy and live a full abundant life through whole food based nutrition.
LOCATION:Bella Bru Cafe 4680 Natomas Blvd Sacramento\, CA 95835
UID:e.1155.612
SEQUENCE:3
DTSTAMP:20260422T155925Z
URL:https://business.natomaschamber.org/events/details/lunch-n-learn-10-12-2012-612
END:VEVENT

END:VCALENDAR
