BEGIN:VCALENDAR
VERSION:2.0
PRODID:-//ChamberMaster//Event Calendar 2.0//EN
METHOD:PUBLISH
X-PUBLISHED-TTL:P3D
REFRESH-INTERVAL:P3D
CALSCALE:GREGORIAN
BEGIN:VEVENT
DTSTART:20260506T190000Z
DTEND:20260506T200000Z
X-MICROSOFT-CDO-ALLDAYEVENT:FALSE
SUMMARY:Lunch & Learn with Gold Bridge Capital Solutions
DESCRIPTION:Join us for a Lunch and Learn!\n\n\n\nJoin Marie Fleming\, CEO of Gold Bridge Capital Solutions\, and Kelley T. Cheney\, Senior VP & SBA Sales Manager of Plumas Bank\, for an informative Lunch & Learn on SBA lending. This session will cover current rules\, recent updates\, and key changes\, helping you better understand how SBA financing can support your business goals.
X-ALT-DESC;FMTTYPE=text/html:Join us for a Lunch and Learn!<br />\n<br />\n<span style="font-size:12px\;"><span class="a_GcMg font-feature-liga-off font-feature-clig-off font-feature-calt-off text-decoration-none text-strikethrough-none" style="caret-color: rgb(1\, 48\, 91)\; --Ys-XuQ: none\; font-weight: 700\; font-kerning: normal\;">Join Marie Fleming\, CEO of Gold Bridge Capital Solutions\, and Kelley T. Cheney\, Senior VP &amp\; SBA Sales Manager of Plumas Bank\, for an informative Lunch &amp\; Learn on SBA lending. This session will cover current rules\, recent updates\, and key changes\, helping you better understand how SBA financing can support your business goals.</span></span>
LOCATION:Golden Bay Mortgage 3900 Lennane Dr\, Suite 200 Sacramento CA\, 95834
UID:e.1155.3432
SEQUENCE:3
DTSTAMP:20260420T213026Z
URL:https://business.natomaschamber.org/events/details/lunch-learn-with-gold-bridge-capital-solutions-3432
END:VEVENT

END:VCALENDAR
