BEGIN:VCALENDAR
VERSION:2.0
PRODID:-//ChamberMaster//Event Calendar 2.0//EN
METHOD:PUBLISH
X-PUBLISHED-TTL:P3D
REFRESH-INTERVAL:P3D
CALSCALE:GREGORIAN
BEGIN:VEVENT
DTSTART:20211110T194500Z
DTEND:20211110T210000Z
X-MICROSOFT-CDO-ALLDAYEVENT:FALSE
SUMMARY:lunch & learn: Employee Engagement & Building Trust
DESCRIPTION:Lunch & Learn Event: Employee Engagement & Building Trust By Dale Carnegie Institute
X-ALT-DESC;FMTTYPE=text/html:Lunch &amp\; Learn Event: Employee Engagement &amp\; Building Trust By Dale Carnegie Institute
LOCATION:Lunch & Learn Event: Employee Engagement & Building Trust By Dale Carnegie Institute Register to attend this virtual event here: https://us02web.zoom.us/meeting/register/tZAvduqoqTMpHdBOAltZfueaEbUi-pXEgQOx
UID:e.1155.2657
SEQUENCE:3
DTSTAMP:20260419T153151Z
URL:https://business.natomaschamber.org/events/details/lunch-learn-employee-engagement-building-trust-2657
END:VEVENT

END:VCALENDAR
